BEGIN:VCALENDAR
VERSION:2.0
PRODID:-//Arbor - ECPv6.10.3//NONSGML v1.0//EN
CALSCALE:GREGORIAN
METHOD:PUBLISH
X-WR-CALNAME:Arbor
X-ORIGINAL-URL:https://arbor-primary.co.za
X-WR-CALDESC:Events for Arbor
REFRESH-INTERVAL;VALUE=DURATION:PT1H
X-Robots-Tag:noindex
X-PUBLISHED-TTL:PT1H
BEGIN:VTIMEZONE
TZID:UTC
BEGIN:STANDARD
TZOFFSETFROM:+0000
TZOFFSETTO:+0000
TZNAME:UTC
DTSTART:20220101T000000
END:STANDARD
END:VTIMEZONE
BEGIN:VEVENT
DTSTART;TZID=UTC:20220310T150000
DTEND;TZID=UTC:20220310T160000
DTSTAMP:20260421T065134
CREATED:20220224T162859Z
LAST-MODIFIED:20220224T162859Z
UID:1176-1646924400-1646928000@arbor-primary.co.za
SUMMARY:U11 Soccer & Netball Trials
DESCRIPTION:
URL:https://arbor-primary.co.za/event/u11-soccer-netball-trials-3/
END:VEVENT
BEGIN:VEVENT
DTSTART;TZID=UTC:20220310T140000
DTEND;TZID=UTC:20220310T150000
DTSTAMP:20260421T065134
CREATED:20220224T162833Z
LAST-MODIFIED:20220224T162833Z
UID:1174-1646920800-1646924400@arbor-primary.co.za
SUMMARY:U9 Soccer & Netball Trials
DESCRIPTION:
URL:https://arbor-primary.co.za/event/u9-soccer-netball-trials-3/
END:VEVENT
BEGIN:VEVENT
DTSTART;VALUE=DATE:20220310
DTEND;VALUE=DATE:20220311
DTSTAMP:20260421T065134
CREATED:20220218T154954Z
LAST-MODIFIED:20220218T154954Z
UID:1023-1646870400-1646956799@arbor-primary.co.za
SUMMARY:Sexuality Ed - Learners
DESCRIPTION:
URL:https://arbor-primary.co.za/event/sexuality-ed-learners/
END:VEVENT
BEGIN:VEVENT
DTSTART;VALUE=DATE:20220310
DTEND;VALUE=DATE:20220311
DTSTAMP:20260421T065134
CREATED:20220218T154934Z
LAST-MODIFIED:20220218T154934Z
UID:1021-1646870400-1646956799@arbor-primary.co.za
SUMMARY:SGB Meeting
DESCRIPTION:
URL:https://arbor-primary.co.za/event/sgb-meeting/
END:VEVENT
BEGIN:VEVENT
DTSTART;TZID=UTC:20220309T150000
DTEND;TZID=UTC:20220309T160000
DTSTAMP:20260421T065134
CREATED:20220224T162757Z
LAST-MODIFIED:20220224T162757Z
UID:1172-1646838000-1646841600@arbor-primary.co.za
SUMMARY:U12 & U13 Soccer Trials
DESCRIPTION:
URL:https://arbor-primary.co.za/event/u12-u13-soccer-trials-3/
END:VEVENT
BEGIN:VEVENT
DTSTART;TZID=UTC:20220309T140000
DTEND;TZID=UTC:20220309T150000
DTSTAMP:20260421T065134
CREATED:20220224T162726Z
LAST-MODIFIED:20220224T162726Z
UID:1170-1646834400-1646838000@arbor-primary.co.za
SUMMARY:U8 Soccer & Netball Trials
DESCRIPTION:
URL:https://arbor-primary.co.za/event/u8-soccer-netball-trials-3/
END:VEVENT
BEGIN:VEVENT
DTSTART;TZID=UTC:20220308T150000
DTEND;TZID=UTC:20220308T160000
DTSTAMP:20260421T065134
CREATED:20220224T162702Z
LAST-MODIFIED:20220224T162702Z
UID:1168-1646751600-1646755200@arbor-primary.co.za
SUMMARY:U10 Soccer & Netball Trials
DESCRIPTION:
URL:https://arbor-primary.co.za/event/u10-soccer-netball-trials-3/
END:VEVENT
BEGIN:VEVENT
DTSTART;TZID=UTC:20220308T140000
DTEND;TZID=UTC:20220308T153000
DTSTAMP:20260421T065134
CREATED:20220224T162632Z
LAST-MODIFIED:20220224T162632Z
UID:1166-1646748000-1646753400@arbor-primary.co.za
SUMMARY:U7 Soccer & Netball Trials
DESCRIPTION:
URL:https://arbor-primary.co.za/event/u7-soccer-netball-trials-3/
END:VEVENT
BEGIN:VEVENT
DTSTART;VALUE=DATE:20220308
DTEND;VALUE=DATE:20220309
DTSTAMP:20260421T065134
CREATED:20220218T154851Z
LAST-MODIFIED:20220218T154851Z
UID:1019-1646697600-1646783999@arbor-primary.co.za
SUMMARY:Sexuality Ed - Parents
DESCRIPTION:
URL:https://arbor-primary.co.za/event/sexuality-ed-parents/
END:VEVENT
BEGIN:VEVENT
DTSTART;VALUE=DATE:20220307
DTEND;VALUE=DATE:20220308
DTSTAMP:20260421T065134
CREATED:20220224T162557Z
LAST-MODIFIED:20220224T162557Z
UID:1164-1646611200-1646697599@arbor-primary.co.za
SUMMARY:Netball U12 Ekurhuleni Trials
DESCRIPTION:
URL:https://arbor-primary.co.za/event/netball-u12-ekurhuleni-trials/
END:VEVENT
BEGIN:VEVENT
DTSTART;VALUE=DATE:20220307
DTEND;VALUE=DATE:20220308
DTSTAMP:20260421T065134
CREATED:20220218T154820Z
LAST-MODIFIED:20220218T154820Z
UID:1017-1646611200-1646697599@arbor-primary.co.za
SUMMARY:World Poetry Day
DESCRIPTION:
URL:https://arbor-primary.co.za/event/world-poetry-day/
END:VEVENT
BEGIN:VEVENT
DTSTART;TZID=UTC:20220304T073000
DTEND;TZID=UTC:20220304T080000
DTSTAMP:20260421T065134
CREATED:20220218T154754Z
LAST-MODIFIED:20220218T154754Z
UID:1015-1646379000-1646380800@arbor-primary.co.za
SUMMARY:Inter-house Quiz Test (Gr 5-7)
DESCRIPTION:
URL:https://arbor-primary.co.za/event/inter-house-quiz-test-gr-5-7/
END:VEVENT
BEGIN:VEVENT
DTSTART;VALUE=DATE:20220304
DTEND;VALUE=DATE:20220305
DTSTAMP:20260421T065134
CREATED:20220224T162537Z
LAST-MODIFIED:20220224T162537Z
UID:1162-1646352000-1646438399@arbor-primary.co.za
SUMMARY:D6 Netball Grading
DESCRIPTION:
URL:https://arbor-primary.co.za/event/d6-netball-grading/
END:VEVENT
BEGIN:VEVENT
DTSTART;TZID=UTC:20220303T150000
DTEND;TZID=UTC:20220303T160000
DTSTAMP:20260421T065134
CREATED:20220224T162514Z
LAST-MODIFIED:20220224T162514Z
UID:1160-1646319600-1646323200@arbor-primary.co.za
SUMMARY:U11 Soccer & Netball Trials
DESCRIPTION:
URL:https://arbor-primary.co.za/event/u11-soccer-netball-trials-2/
END:VEVENT
BEGIN:VEVENT
DTSTART;TZID=UTC:20220303T140000
DTEND;TZID=UTC:20220303T150000
DTSTAMP:20260421T065134
CREATED:20220224T162454Z
LAST-MODIFIED:20220224T162454Z
UID:1158-1646316000-1646319600@arbor-primary.co.za
SUMMARY:U9 Soccer & Netball Trials
DESCRIPTION:
URL:https://arbor-primary.co.za/event/u9-soccer-netball-trials-2/
END:VEVENT
BEGIN:VEVENT
DTSTART;TZID=UTC:20220302T150000
DTEND;TZID=UTC:20220302T160000
DTSTAMP:20260421T065134
CREATED:20220224T162121Z
LAST-MODIFIED:20220224T162121Z
UID:1152-1646233200-1646236800@arbor-primary.co.za
SUMMARY:U12 & U13 Soccer Trials
DESCRIPTION:
URL:https://arbor-primary.co.za/event/u12-u13-soccer-trials-2/
END:VEVENT
BEGIN:VEVENT
DTSTART;TZID=UTC:20220302T140000
DTEND;TZID=UTC:20220302T150000
DTSTAMP:20260421T065134
CREATED:20220224T162049Z
LAST-MODIFIED:20220224T162049Z
UID:1150-1646229600-1646233200@arbor-primary.co.za
SUMMARY:U8 Soccer & Netball Trials
DESCRIPTION:
URL:https://arbor-primary.co.za/event/u8-soccer-netball-trials-2/
END:VEVENT
BEGIN:VEVENT
DTSTART;VALUE=DATE:20220302
DTEND;VALUE=DATE:20220303
DTSTAMP:20260421T065134
CREATED:20220224T162417Z
LAST-MODIFIED:20220224T162417Z
UID:1156-1646179200-1646265599@arbor-primary.co.za
SUMMARY:Netball D6 U12 District Trials
DESCRIPTION:
URL:https://arbor-primary.co.za/event/netball-d6-u12-district-trials/
END:VEVENT
BEGIN:VEVENT
DTSTART;VALUE=DATE:20220302
DTEND;VALUE=DATE:20220303
DTSTAMP:20260421T065134
CREATED:20220224T162359Z
LAST-MODIFIED:20220224T162359Z
UID:1154-1646179200-1646265599@arbor-primary.co.za
SUMMARY:Inter-Primary Swimming Gala
DESCRIPTION:
URL:https://arbor-primary.co.za/event/inter-primary-swimming-gala/
END:VEVENT
BEGIN:VEVENT
DTSTART;TZID=UTC:20220301T150000
DTEND;TZID=UTC:20220301T160000
DTSTAMP:20260421T065134
CREATED:20220224T162022Z
LAST-MODIFIED:20220224T162022Z
UID:1148-1646146800-1646150400@arbor-primary.co.za
SUMMARY:U10 Soccer & Netball Trials
DESCRIPTION:
URL:https://arbor-primary.co.za/event/u10-soccer-netball-trials-2/
END:VEVENT
BEGIN:VEVENT
DTSTART;TZID=UTC:20220301T140000
DTEND;TZID=UTC:20220301T150000
DTSTAMP:20260421T065134
CREATED:20220224T161959Z
LAST-MODIFIED:20220224T161959Z
UID:1146-1646143200-1646146800@arbor-primary.co.za
SUMMARY:U7 Soccer & Netball Trials
DESCRIPTION:
URL:https://arbor-primary.co.za/event/u7-soccer-netball-trials-2/
END:VEVENT
BEGIN:VEVENT
DTSTART;VALUE=DATE:20220225
DTEND;VALUE=DATE:20220226
DTSTAMP:20260421T065134
CREATED:20220224T161935Z
LAST-MODIFIED:20220224T161935Z
UID:1144-1645747200-1645833599@arbor-primary.co.za
SUMMARY:Netball U13 Town Trials
DESCRIPTION:
URL:https://arbor-primary.co.za/event/netball-u13-town-trials/
END:VEVENT
BEGIN:VEVENT
DTSTART;TZID=UTC:20220224T150000
DTEND;TZID=UTC:20220224T160000
DTSTAMP:20260421T065134
CREATED:20220224T161849Z
LAST-MODIFIED:20220224T161849Z
UID:1140-1645714800-1645718400@arbor-primary.co.za
SUMMARY:U11 Soccer & Netball Trials
DESCRIPTION:
URL:https://arbor-primary.co.za/event/u11-soccer-netball-trials/
END:VEVENT
BEGIN:VEVENT
DTSTART;TZID=UTC:20220224T140000
DTEND;TZID=UTC:20220224T150000
DTSTAMP:20260421T065134
CREATED:20220224T161820Z
LAST-MODIFIED:20220224T161820Z
UID:1138-1645711200-1645714800@arbor-primary.co.za
SUMMARY:U9 Soccer & Netball Trials
DESCRIPTION:
URL:https://arbor-primary.co.za/event/u9-soccer-netball-trials/
END:VEVENT
BEGIN:VEVENT
DTSTART;VALUE=DATE:20220224
DTEND;VALUE=DATE:20220225
DTSTAMP:20260421T065134
CREATED:20220224T162914Z
LAST-MODIFIED:20220224T162914Z
UID:1178-1645660800-1645747199@arbor-primary.co.za
SUMMARY:Netball U13 Ekurhuleni Trials
DESCRIPTION:
URL:https://arbor-primary.co.za/event/netball-u13-ekurhuleni-trials/
END:VEVENT
BEGIN:VEVENT
DTSTART;VALUE=DATE:20220224
DTEND;VALUE=DATE:20220225
DTSTAMP:20260421T065134
CREATED:20220224T161912Z
LAST-MODIFIED:20220224T161912Z
UID:1142-1645660800-1645747199@arbor-primary.co.za
SUMMARY:Netball U12 Town Trials
DESCRIPTION:
URL:https://arbor-primary.co.za/event/netball-u12-town-trials/
END:VEVENT
BEGIN:VEVENT
DTSTART;TZID=UTC:20220223T150000
DTEND;TZID=UTC:20220223T160000
DTSTAMP:20260421T065134
CREATED:20220224T161739Z
LAST-MODIFIED:20220224T161739Z
UID:1136-1645628400-1645632000@arbor-primary.co.za
SUMMARY:U12 & U13 Soccer Trials
DESCRIPTION:
URL:https://arbor-primary.co.za/event/u12-u13-soccer-trials/
END:VEVENT
BEGIN:VEVENT
DTSTART;TZID=UTC:20220223T140000
DTEND;TZID=UTC:20220223T150000
DTSTAMP:20260421T065134
CREATED:20220224T161709Z
LAST-MODIFIED:20220224T161709Z
UID:1134-1645624800-1645628400@arbor-primary.co.za
SUMMARY:U8 Soccer & Netball Trials
DESCRIPTION:
URL:https://arbor-primary.co.za/event/u8-soccer-netball-trials/
END:VEVENT
BEGIN:VEVENT
DTSTART;VALUE=DATE:20220223
DTEND;VALUE=DATE:20220224
DTSTAMP:20260421T065134
CREATED:20220218T154704Z
LAST-MODIFIED:20220218T154704Z
UID:1013-1645574400-1645660799@arbor-primary.co.za
SUMMARY:D17 Athletics
DESCRIPTION:
URL:https://arbor-primary.co.za/event/d17-athletics/
END:VEVENT
BEGIN:VEVENT
DTSTART;TZID=UTC:20220222T150000
DTEND;TZID=UTC:20220222T160000
DTSTAMP:20260421T065134
CREATED:20220224T161639Z
LAST-MODIFIED:20220224T161639Z
UID:1132-1645542000-1645545600@arbor-primary.co.za
SUMMARY:U10 Soccer & Netball Trials
DESCRIPTION:
URL:https://arbor-primary.co.za/event/u10-soccer-netball-trials/
END:VEVENT
END:VCALENDAR