BEGIN:VCALENDAR
VERSION:2.0
PRODID:-//Arbor - ECPv6.10.3//NONSGML v1.0//EN
CALSCALE:GREGORIAN
METHOD:PUBLISH
X-ORIGINAL-URL:https://arbor-primary.co.za
X-WR-CALDESC:Events for Arbor
REFRESH-INTERVAL;VALUE=DURATION:PT1H
X-Robots-Tag:noindex
X-PUBLISHED-TTL:PT1H
BEGIN:VTIMEZONE
TZID:UTC
BEGIN:STANDARD
TZOFFSETFROM:+0000
TZOFFSETTO:+0000
TZNAME:UTC
DTSTART:20220101T000000
END:STANDARD
END:VTIMEZONE
BEGIN:VEVENT
DTSTART;VALUE=DATE:20220224
DTEND;VALUE=DATE:20220225
DTSTAMP:20260423T082934
CREATED:20220224T162914Z
LAST-MODIFIED:20220224T162914Z
UID:1178-1645660800-1645747199@arbor-primary.co.za
SUMMARY:Netball U13 Ekurhuleni Trials
DESCRIPTION:
URL:https://arbor-primary.co.za/event/netball-u13-ekurhuleni-trials/
END:VEVENT
BEGIN:VEVENT
DTSTART;VALUE=DATE:20220224
DTEND;VALUE=DATE:20220225
DTSTAMP:20260423T082934
CREATED:20220224T161912Z
LAST-MODIFIED:20220224T161912Z
UID:1142-1645660800-1645747199@arbor-primary.co.za
SUMMARY:Netball U12 Town Trials
DESCRIPTION:
URL:https://arbor-primary.co.za/event/netball-u12-town-trials/
END:VEVENT
BEGIN:VEVENT
DTSTART;TZID=UTC:20220223T150000
DTEND;TZID=UTC:20220223T160000
DTSTAMP:20260423T082934
CREATED:20220224T161739Z
LAST-MODIFIED:20220224T161739Z
UID:1136-1645628400-1645632000@arbor-primary.co.za
SUMMARY:U12 & U13 Soccer Trials
DESCRIPTION:
URL:https://arbor-primary.co.za/event/u12-u13-soccer-trials/
END:VEVENT
BEGIN:VEVENT
DTSTART;TZID=UTC:20220223T140000
DTEND;TZID=UTC:20220223T150000
DTSTAMP:20260423T082934
CREATED:20220224T161709Z
LAST-MODIFIED:20220224T161709Z
UID:1134-1645624800-1645628400@arbor-primary.co.za
SUMMARY:U8 Soccer & Netball Trials
DESCRIPTION:
URL:https://arbor-primary.co.za/event/u8-soccer-netball-trials/
END:VEVENT
BEGIN:VEVENT
DTSTART;VALUE=DATE:20220223
DTEND;VALUE=DATE:20220224
DTSTAMP:20260423T082934
CREATED:20220218T154704Z
LAST-MODIFIED:20220218T154704Z
UID:1013-1645574400-1645660799@arbor-primary.co.za
SUMMARY:D17 Athletics
DESCRIPTION:
URL:https://arbor-primary.co.za/event/d17-athletics/
END:VEVENT
BEGIN:VEVENT
DTSTART;TZID=UTC:20220222T150000
DTEND;TZID=UTC:20220222T160000
DTSTAMP:20260423T082934
CREATED:20220224T161639Z
LAST-MODIFIED:20220224T161639Z
UID:1132-1645542000-1645545600@arbor-primary.co.za
SUMMARY:U10 Soccer & Netball Trials
DESCRIPTION:
URL:https://arbor-primary.co.za/event/u10-soccer-netball-trials/
END:VEVENT
BEGIN:VEVENT
DTSTART;TZID=UTC:20220222T140000
DTEND;TZID=UTC:20220222T150000
DTSTAMP:20260423T082934
CREATED:20220224T161607Z
LAST-MODIFIED:20220224T161607Z
UID:1130-1645538400-1645542000@arbor-primary.co.za
SUMMARY:U7 Soccer & Netball Trials
DESCRIPTION:
URL:https://arbor-primary.co.za/event/u7-soccer-netball-trials/
END:VEVENT
BEGIN:VEVENT
DTSTART;VALUE=DATE:20220215
DTEND;VALUE=DATE:20220216
DTSTAMP:20260423T082934
CREATED:20220218T154643Z
LAST-MODIFIED:20220218T154643Z
UID:1011-1644883200-1644969599@arbor-primary.co.za
SUMMARY:Greater Benoni Athletics - Hans Moore
DESCRIPTION:
URL:https://arbor-primary.co.za/event/greater-benoni-athletics-hans-moore/
END:VEVENT
BEGIN:VEVENT
DTSTART;VALUE=DATE:20220214
DTEND;VALUE=DATE:20220215
DTSTAMP:20260423T082934
CREATED:20220218T154611Z
LAST-MODIFIED:20220218T154611Z
UID:1009-1644796800-1644883199@arbor-primary.co.za
SUMMARY:Valentine's Dress-Up (Gr 7 Mrs da Silva)
DESCRIPTION:
URL:https://arbor-primary.co.za/event/valentines-dress-up-gr-7-mrs-da-silva/
END:VEVENT
BEGIN:VEVENT
DTSTART;VALUE=DATE:20220211
DTEND;VALUE=DATE:20220212
DTSTAMP:20260423T082934
CREATED:20220218T154537Z
LAST-MODIFIED:20220218T154537Z
UID:1007-1644537600-1644623999@arbor-primary.co.za
SUMMARY:Inter Primary Athletics - LS Rynfield
DESCRIPTION:
URL:https://arbor-primary.co.za/event/inter-primary-athletics-ls-rynfield/
END:VEVENT
BEGIN:VEVENT
DTSTART;VALUE=DATE:20220203
DTEND;VALUE=DATE:20220204
DTSTAMP:20260423T082934
CREATED:20220218T154457Z
LAST-MODIFIED:20220218T154457Z
UID:1005-1643846400-1643932799@arbor-primary.co.za
SUMMARY:Nalibali World Read Aloud Day
DESCRIPTION:
URL:https://arbor-primary.co.za/event/nalibali-world-read-aloud-day/
END:VEVENT
BEGIN:VEVENT
DTSTART;VALUE=DATE:20220201
DTEND;VALUE=DATE:20220202
DTSTAMP:20260423T082934
CREATED:20220218T154431Z
LAST-MODIFIED:20220218T154431Z
UID:1003-1643673600-1643759999@arbor-primary.co.za
SUMMARY:Poetry Competition Launch
DESCRIPTION:
URL:https://arbor-primary.co.za/event/poetry-competition-launch/
END:VEVENT
BEGIN:VEVENT
DTSTART;VALUE=DATE:20220129
DTEND;VALUE=DATE:20220130
DTSTAMP:20260423T082934
CREATED:20220218T154404Z
LAST-MODIFIED:20220218T154404Z
UID:1001-1643414400-1643500799@arbor-primary.co.za
SUMMARY:Seed Swap Day
DESCRIPTION:
URL:https://arbor-primary.co.za/event/seed-swap-day/
END:VEVENT
BEGIN:VEVENT
DTSTART;VALUE=DATE:20220127
DTEND;VALUE=DATE:20220128
DTSTAMP:20260423T082934
CREATED:20220218T154345Z
LAST-MODIFIED:20220218T154345Z
UID:999-1643241600-1643327999@arbor-primary.co.za
SUMMARY:Tentative Athletics Friendly @ Selection Park
DESCRIPTION:
URL:https://arbor-primary.co.za/event/tentative-athletics-friendly-selection-park/
END:VEVENT
BEGIN:VEVENT
DTSTART;VALUE=DATE:20220121
DTEND;VALUE=DATE:20220122
DTSTAMP:20260423T082934
CREATED:20220218T154307Z
LAST-MODIFIED:20220218T154307Z
UID:997-1642723200-1642809599@arbor-primary.co.za
SUMMARY:Assessment programme to parents
DESCRIPTION:
URL:https://arbor-primary.co.za/event/assessment-programme-to-parents/
END:VEVENT
BEGIN:VEVENT
DTSTART;TZID=UTC:20220120T180000
DTEND;TZID=UTC:20220120T190000
DTSTAMP:20260423T082934
CREATED:20220218T153651Z
LAST-MODIFIED:20220218T153651Z
UID:995-1642701600-1642705200@arbor-primary.co.za
SUMMARY:Gr 2 Orientation
DESCRIPTION:
URL:https://arbor-primary.co.za/event/gr-2-orientation/
END:VEVENT
BEGIN:VEVENT
DTSTART;TZID=UTC:20220119T180000
DTEND;TZID=UTC:20220119T190000
DTSTAMP:20260423T082934
CREATED:20220218T153617Z
LAST-MODIFIED:20220218T153617Z
UID:993-1642615200-1642618800@arbor-primary.co.za
SUMMARY:Gr 3 Orientation
DESCRIPTION:
URL:https://arbor-primary.co.za/event/gr-3-orientation/
END:VEVENT
BEGIN:VEVENT
DTSTART;TZID=UTC:20220118T180000
DTEND;TZID=UTC:20220118T190000
DTSTAMP:20260423T082934
CREATED:20220218T153542Z
LAST-MODIFIED:20220218T153542Z
UID:991-1642528800-1642532400@arbor-primary.co.za
SUMMARY:Gr 4 Orientation
DESCRIPTION:
URL:https://arbor-primary.co.za/event/gr-4-orientation/
END:VEVENT
BEGIN:VEVENT
DTSTART;VALUE=DATE:20220117
DTEND;VALUE=DATE:20220118
DTSTAMP:20260423T082934
CREATED:20220218T153507Z
LAST-MODIFIED:20220218T153507Z
UID:989-1642377600-1642463999@arbor-primary.co.za
SUMMARY:Extra-murals Begin
DESCRIPTION:
URL:https://arbor-primary.co.za/event/extra-murals-begin/
END:VEVENT
BEGIN:VEVENT
DTSTART;TZID=UTC:20220114T120000
DTEND;TZID=UTC:20220114T170000
DTSTAMP:20260423T082934
CREATED:20220218T153033Z
LAST-MODIFIED:20220218T153033Z
UID:987-1642161600-1642179600@arbor-primary.co.za
SUMMARY:Athletics Friendly vs Tom Newby @Arbor
DESCRIPTION:
URL:https://arbor-primary.co.za/event/athletics-friendly-vs-tom-newby-arbor-2/
END:VEVENT
BEGIN:VEVENT
DTSTART;TZID=UTC:20220114T080000
DTEND;TZID=UTC:20220114T090000
DTSTAMP:20260423T082934
CREATED:20220218T152940Z
LAST-MODIFIED:20220218T152940Z
UID:985-1642147200-1642150800@arbor-primary.co.za
SUMMARY:Maths Baseline Assessment Gr 4-7
DESCRIPTION:
URL:https://arbor-primary.co.za/event/maths-baseline-assessment-gr-4-7/
END:VEVENT
BEGIN:VEVENT
DTSTART;TZID=UTC:20220113T180000
DTEND;TZID=UTC:20220113T190000
DTSTAMP:20260423T082934
CREATED:20220218T152649Z
LAST-MODIFIED:20220218T152649Z
UID:979-1642096800-1642100400@arbor-primary.co.za
SUMMARY:Gr 6 Orientation
DESCRIPTION:
URL:https://arbor-primary.co.za/event/gr-6-orientation/
END:VEVENT
BEGIN:VEVENT
DTSTART;TZID=UTC:20220113T120000
DTEND;TZID=UTC:20220113T160000
DTSTAMP:20260423T082934
CREATED:20220218T152856Z
LAST-MODIFIED:20220218T152856Z
UID:983-1642075200-1642089600@arbor-primary.co.za
SUMMARY:Athletics Friendly Vs Tom Newby @Arbor
DESCRIPTION:
URL:https://arbor-primary.co.za/event/athletics-friendly-vs-tom-newby-arbor/
END:VEVENT
BEGIN:VEVENT
DTSTART;TZID=UTC:20220113T080000
DTEND;TZID=UTC:20220113T090000
DTSTAMP:20260423T082934
CREATED:20220218T152727Z
LAST-MODIFIED:20220218T152727Z
UID:981-1642060800-1642064400@arbor-primary.co.za
SUMMARY:Afrikaans Baseline Assessment Gr 4-7
DESCRIPTION:
URL:https://arbor-primary.co.za/event/afrikaans-baseline-assessment-gr-4-7/
END:VEVENT
BEGIN:VEVENT
DTSTART;TZID=UTC:20220112T180000
DTEND;TZID=UTC:20220112T190000
DTSTAMP:20260423T082934
CREATED:20220218T152344Z
LAST-MODIFIED:20220218T152344Z
UID:973-1642010400-1642014000@arbor-primary.co.za
SUMMARY:Grade 7 Orientation
DESCRIPTION:
URL:https://arbor-primary.co.za/event/grade-7-orientation/
END:VEVENT
BEGIN:VEVENT
DTSTART;TZID=UTC:20220112T103000
DTEND;TZID=UTC:20220112T233000
DTSTAMP:20260423T082934
CREATED:20220218T152427Z
LAST-MODIFIED:20220218T152427Z
UID:975-1641983400-1642030200@arbor-primary.co.za
SUMMARY:English Baseline Assessment Gr 4-7
DESCRIPTION:
URL:https://arbor-primary.co.za/event/english-baseline-assessment-gr-4-7/
END:VEVENT
BEGIN:VEVENT
DTSTART;TZID=UTC:20220112T073000
DTEND;TZID=UTC:20220112T090000
DTSTAMP:20260423T082934
CREATED:20220218T152240Z
LAST-MODIFIED:20220218T152240Z
UID:971-1641972600-1641978000@arbor-primary.co.za
SUMMARY:Grade 1 Parent Orientation
DESCRIPTION:
URL:https://arbor-primary.co.za/event/grade-1-parent-orientation/
END:VEVENT
BEGIN:VEVENT
DTSTART;VALUE=DATE:20220112
DTEND;VALUE=DATE:20220113
DTSTAMP:20260423T082934
CREATED:20220218T152521Z
LAST-MODIFIED:20220218T152521Z
UID:977-1641945600-1642031999@arbor-primary.co.za
SUMMARY:Athletics challenges for new & absent learners (not grade 1)
DESCRIPTION:
URL:https://arbor-primary.co.za/event/athletics-challenges-for-new-absent-learners-not-grade-1/
END:VEVENT
BEGIN:VEVENT
DTSTART;VALUE=DATE:20220112
DTEND;VALUE=DATE:20220113
DTSTAMP:20260423T082934
CREATED:20220218T152155Z
LAST-MODIFIED:20220218T152155Z
UID:969-1641945600-1642031999@arbor-primary.co.za
SUMMARY:Learners Start
DESCRIPTION:
URL:https://arbor-primary.co.za/event/learners-start/
END:VEVENT
BEGIN:VEVENT
DTSTART;VALUE=DATE:20220110
DTEND;VALUE=DATE:20220111
DTSTAMP:20260423T082934
CREATED:20220218T152128Z
LAST-MODIFIED:20220218T152128Z
UID:967-1641772800-1641859199@arbor-primary.co.za
SUMMARY:Educators Start
DESCRIPTION:
URL:https://arbor-primary.co.za/event/educators-start/
END:VEVENT
END:VCALENDAR